BEGIN:VCALENDAR
VERSION:2.0
PRODID:-//Evergreen Creative District - ECPv6.15.20//NONSGML v1.0//EN
CALSCALE:GREGORIAN
METHOD:PUBLISH
X-WR-CALNAME:Evergreen Creative District
X-ORIGINAL-URL:https://evergreencreativedistrict.org
X-WR-CALDESC:Events for Evergreen Creative District
REFRESH-INTERVAL;VALUE=DURATION:PT1H
X-Robots-Tag:noindex
X-PUBLISHED-TTL:PT1H
BEGIN:VTIMEZONE
TZID:America/Denver
BEGIN:DAYLIGHT
TZOFFSETFROM:-0700
TZOFFSETTO:-0600
TZNAME:MDT
DTSTART:20230312T090000
END:DAYLIGHT
BEGIN:STANDARD
TZOFFSETFROM:-0600
TZOFFSETTO:-0700
TZNAME:MST
DTSTART:20231105T080000
END:STANDARD
BEGIN:DAYLIGHT
TZOFFSETFROM:-0700
TZOFFSETTO:-0600
TZNAME:MDT
DTSTART:20240310T090000
END:DAYLIGHT
BEGIN:STANDARD
TZOFFSETFROM:-0600
TZOFFSETTO:-0700
TZNAME:MST
DTSTART:20241103T080000
END:STANDARD
BEGIN:DAYLIGHT
TZOFFSETFROM:-0700
TZOFFSETTO:-0600
TZNAME:MDT
DTSTART:20250309T090000
END:DAYLIGHT
BEGIN:STANDARD
TZOFFSETFROM:-0600
TZOFFSETTO:-0700
TZNAME:MST
DTSTART:20251102T080000
END:STANDARD
END:VTIMEZONE
BEGIN:VEVENT
DTSTART;TZID=America/Denver:20240803T120000
DTEND;TZID=America/Denver:20240803T210000
DTSTAMP:20260423T075713
CREATED:20240605T165914Z
LAST-MODIFIED:20240630T151125Z
UID:10000011-1722686400-1722718800@evergreencreativedistrict.org
SUMMARY:Mountain Music Fest
DESCRIPTION:Tickets are on sale now! \nGet ready for an unforgettable day of rhythm\, melodies\, and pure mountain magic! Join us for the much-anticipated Mountain Music Fest\, a 9-hour celebration of music set against the stunning backdrop of Evergreen\, Colorado. The artist lineup includes: Firefall\, Steve Knight and Elle Green\, Denver Rock Orchestra and the Dirty Snowman Society\, Trouble Bound\, Hand Turkey\, Jenna Wiedner\, George Gray and the Elvis Experience Band\, Winners of the Conifer’s Got Talent and the Evergreen’s Got Talent. \nImmerse yourself in the scenic beauty of Evergreen as our outdoor stages transform into a haven for music enthusiasts. Surrounded by towering pines and crisp mountain air\, this festival promises an unparalleled experience that goes beyond just music. \nFor more information and how to get involved\, visit MountainMusicFest.org \nGet tickets now!
URL:https://evergreencreativedistrict.org/event/mountain-music-fest/
LOCATION:Buchanan Park Field\, 32003 Ellingwood Trail\, Evergreen\, CO\, 80439\, United States
CATEGORIES:Music Arts,Non-profit Arts,Schools & Arts Instruction,Volunteers for the Arts
ATTACH;FMTTYPE=image/jpeg:https://evergreencreativedistrict.org/wp-content/uploads/mmf_banner_for_ecd-6644e028f3a8a-ZYvXlf.tmp_.jpg
ORGANIZER;CN="Wooden Hawk Foundation":MAILTO:info@woodenhawkfoundation.org
GEO:39.6846585;-105.3631058
X-APPLE-STRUCTURED-LOCATION;VALUE=URI;X-ADDRESS=Buchanan Park Field 32003 Ellingwood Trail Evergreen CO 80439 United States;X-APPLE-RADIUS=500;X-TITLE=32003 Ellingwood Trail:geo:-105.3631058,39.6846585
END:VEVENT
BEGIN:VEVENT
DTSTART;TZID=America/Denver:20240823T193000
DTEND;TZID=America/Denver:20240823T213000
DTSTAMP:20260423T075713
CREATED:20240605T170555Z
LAST-MODIFIED:20240629T183719Z
UID:10000121-1724441400-1724448600@evergreencreativedistrict.org
SUMMARY:Evergreen Players Improv Comedy (EPiC)
DESCRIPTION:The Evergreen Players Improv Comedy troupe\, known as EPiC\, typically performs twice each year. Improv is a form of live theatre in which the plot\, characters and dialogue of a game\, scene or story are made up in the moment. The EPiC troupe will take a suggestion from the audience as a source of inspiration. Improv is spontaneous\, entertaining\, fun and engages the audience for a truly unique experience. \nPrice: $20 – $30
URL:https://evergreencreativedistrict.org/event/epic-improv-summer-show/2024-08-23/
LOCATION:Center Stage Theater\, 27608 Fireweed Drive\, Evergreen\, CO\, 80439\, United States
CATEGORIES:Arts Related Entrepreneurial Businesses,Non-profit Arts,Performing Arts,Schools & Arts Instruction,Volunteers for the Arts
ATTACH;FMTTYPE=image/jpeg:https://evergreencreativedistrict.org/wp-content/uploads/epic-improv-summer.jpg
GEO:39.637984;-105.3130966
X-APPLE-STRUCTURED-LOCATION;VALUE=URI;X-ADDRESS=Center Stage Theater 27608 Fireweed Drive Evergreen CO 80439 United States;X-APPLE-RADIUS=500;X-TITLE=27608 Fireweed Drive:geo:-105.3130966,39.637984
END:VEVENT
BEGIN:VEVENT
DTSTART;TZID=America/Denver:20240824T193000
DTEND;TZID=America/Denver:20240824T213000
DTSTAMP:20260423T075713
CREATED:20240605T170555Z
LAST-MODIFIED:20240629T183719Z
UID:10000122-1724527800-1724535000@evergreencreativedistrict.org
SUMMARY:Evergreen Players Improv Comedy (EPiC)
DESCRIPTION:The Evergreen Players Improv Comedy troupe\, known as EPiC\, typically performs twice each year. Improv is a form of live theatre in which the plot\, characters and dialogue of a game\, scene or story are made up in the moment. The EPiC troupe will take a suggestion from the audience as a source of inspiration. Improv is spontaneous\, entertaining\, fun and engages the audience for a truly unique experience. \nPrice: $20 – $30
URL:https://evergreencreativedistrict.org/event/epic-improv-summer-show/2024-08-24/
LOCATION:Center Stage Theater\, 27608 Fireweed Drive\, Evergreen\, CO\, 80439\, United States
CATEGORIES:Arts Related Entrepreneurial Businesses,Non-profit Arts,Performing Arts,Schools & Arts Instruction,Volunteers for the Arts
ATTACH;FMTTYPE=image/jpeg:https://evergreencreativedistrict.org/wp-content/uploads/epic-improv-summer.jpg
GEO:39.637984;-105.3130966
X-APPLE-STRUCTURED-LOCATION;VALUE=URI;X-ADDRESS=Center Stage Theater 27608 Fireweed Drive Evergreen CO 80439 United States;X-APPLE-RADIUS=500;X-TITLE=27608 Fireweed Drive:geo:-105.3130966,39.637984
END:VEVENT
BEGIN:VEVENT
DTSTART;TZID=America/Denver:20240830T180000
DTEND;TZID=America/Denver:20240830T230000
DTSTAMP:20260423T075713
CREATED:20240605T170535Z
LAST-MODIFIED:20240629T160145Z
UID:10000854-1725040800-1725058800@evergreencreativedistrict.org
SUMMARY:2024 Outdoor Movies in the Park
DESCRIPTION:Join us for FREE outdoor movies at Buchanan Park Field from 6 PM-11 PM on the following nights: \n\nJune 7\, 2024: Mission Impossible \nJune 29\, 2024: Migration + Family Campout!\nAugust 30\, 2024: Barbie\nSeptember 27\, 2024: Blue Beetle\nOctober 19\, 2024: Haunted Mansion + Haunted Trail Walk!\n\nFood Trucks! Games! Music! & More! \n*Bring your own blanket or chair
URL:https://evergreencreativedistrict.org/event/movies-in-the-park/2024-08-30/
LOCATION:Buchanan Park Field\, 32003 Ellingwood Trail\, Evergreen\, CO\, 80439\, United States
CATEGORIES:Cultural Organizations,Lifestyle Arts,Performing Arts,Volunteers for the Arts
ATTACH;FMTTYPE=image/jpeg:https://evergreencreativedistrict.org/wp-content/uploads/movies-in-the-park.jpg
GEO:39.6846585;-105.3631058
X-APPLE-STRUCTURED-LOCATION;VALUE=URI;X-ADDRESS=Buchanan Park Field 32003 Ellingwood Trail Evergreen CO 80439 United States;X-APPLE-RADIUS=500;X-TITLE=32003 Ellingwood Trail:geo:-105.3631058,39.6846585
END:VEVENT
END:VCALENDAR