BEGIN:VCALENDAR
VERSION:2.0
PRODID:-//Evergreen Creative District - ECPv6.15.20//NONSGML v1.0//EN
CALSCALE:GREGORIAN
METHOD:PUBLISH
X-WR-CALNAME:Evergreen Creative District
X-ORIGINAL-URL:https://evergreencreativedistrict.org
X-WR-CALDESC:Events for Evergreen Creative District
REFRESH-INTERVAL;VALUE=DURATION:PT1H
X-Robots-Tag:noindex
X-PUBLISHED-TTL:PT1H
BEGIN:VTIMEZONE
TZID:America/Denver
BEGIN:DAYLIGHT
TZOFFSETFROM:-0700
TZOFFSETTO:-0600
TZNAME:MDT
DTSTART:20230312T090000
END:DAYLIGHT
BEGIN:STANDARD
TZOFFSETFROM:-0600
TZOFFSETTO:-0700
TZNAME:MST
DTSTART:20231105T080000
END:STANDARD
BEGIN:DAYLIGHT
TZOFFSETFROM:-0700
TZOFFSETTO:-0600
TZNAME:MDT
DTSTART:20240310T090000
END:DAYLIGHT
BEGIN:STANDARD
TZOFFSETFROM:-0600
TZOFFSETTO:-0700
TZNAME:MST
DTSTART:20241103T080000
END:STANDARD
BEGIN:DAYLIGHT
TZOFFSETFROM:-0700
TZOFFSETTO:-0600
TZNAME:MDT
DTSTART:20250309T090000
END:DAYLIGHT
BEGIN:STANDARD
TZOFFSETFROM:-0600
TZOFFSETTO:-0700
TZNAME:MST
DTSTART:20251102T080000
END:STANDARD
END:VTIMEZONE
BEGIN:VEVENT
DTSTART;TZID=America/Denver:20240907T100000
DTEND;TZID=America/Denver:20240907T170000
DTSTAMP:20260423T061811
CREATED:20240605T170722Z
LAST-MODIFIED:20240629T161841Z
UID:10000060-1725703200-1725728400@evergreencreativedistrict.org
SUMMARY:Evergreen Big Chili COOK-OFF
DESCRIPTION:HONORING OUR FIREFIGHTERS \nBig Chili Cook-Off Music & Arts Festival honors and recognizes those who have given so much to keep us safe in our mountain communities. It’s a celebration of fun\, food\, live entertainment\, kids’ activities\, vendors and more! Over 3\,000 attend this event each year. Don’t miss the annual Firefighters Challenge! \nEvent proceeds benefit the local mountain fire departments from Elk Creek\, Evergreen\, Indian Hills\, Inter Canyon\, North Fork & Platte Canyon.
URL:https://evergreencreativedistrict.org/event/evergreen-big-chili-cook-off/
LOCATION:Buchanan Park Field\, 32003 Ellingwood Trail\, Evergreen\, CO\, 80439\, United States
CATEGORIES:Arts Related Entrepreneurial Businesses,Culinary Arts,Cultural Organizations,Lifestyle Arts,Music Arts,Performing Arts,Schools & Arts Instruction,Visual Artists & Craftspeople,Volunteers for the Arts
ATTACH;FMTTYPE=image/jpeg:https://evergreencreativedistrict.org/wp-content/uploads/chili-cookoff.jpg
GEO:39.6846585;-105.3631058
X-APPLE-STRUCTURED-LOCATION;VALUE=URI;X-ADDRESS=Buchanan Park Field 32003 Ellingwood Trail Evergreen CO 80439 United States;X-APPLE-RADIUS=500;X-TITLE=32003 Ellingwood Trail:geo:-105.3631058,39.6846585
END:VEVENT
BEGIN:VEVENT
DTSTART;TZID=America/Denver:20240917T163000
DTEND;TZID=America/Denver:20240917T235500
DTSTAMP:20260423T061811
CREATED:20240605T170533Z
LAST-MODIFIED:20240629T162520Z
UID:10000043-1726590600-1726617300@evergreencreativedistrict.org
SUMMARY:Taste of Evergreen
DESCRIPTION:Join us as we explore the food & drink offerings from some of the Foothills best restaurants and caterers. Each Eatery will choose something for you to try & we will have a contest to determine the Best Bite & Sip in a variety of categories. \nThis is a fun community event for all ages and you will not leave hungry. Once again this year there will be a beer and wine garden. Music will be provided. \nJoin us at the Evergreen Lake House for a night of fun\, food & music!
URL:https://evergreencreativedistrict.org/event/taste-of-evergreen/
LOCATION:Evergreen Lake House\, 29612 Upper Bear Creek Road\, Evergreen\, CO\, 80439\, United States
CATEGORIES:Arts Related Entrepreneurial Businesses,Culinary Arts,Lifestyle Arts,Performing Arts,Visual Artists & Craftspeople,Volunteers for the Arts
ATTACH;FMTTYPE=image/jpeg:https://evergreencreativedistrict.org/wp-content/uploads/taste-of-evergreen.jpg
GEO:39.6315964;-105.3312135
X-APPLE-STRUCTURED-LOCATION;VALUE=URI;X-ADDRESS=Evergreen Lake House 29612 Upper Bear Creek Road Evergreen CO 80439 United States;X-APPLE-RADIUS=500;X-TITLE=29612 Upper Bear Creek Road:geo:-105.3312135,39.6315964
END:VEVENT
BEGIN:VEVENT
DTSTART;TZID=America/Denver:20240927T180000
DTEND;TZID=America/Denver:20240927T230000
DTSTAMP:20260423T061811
CREATED:20240605T170535Z
LAST-MODIFIED:20240629T160145Z
UID:10000855-1727460000-1727478000@evergreencreativedistrict.org
SUMMARY:2024 Outdoor Movies in the Park
DESCRIPTION:Join us for FREE outdoor movies at Buchanan Park Field from 6 PM-11 PM on the following nights: \n\nJune 7\, 2024: Mission Impossible \nJune 29\, 2024: Migration + Family Campout!\nAugust 30\, 2024: Barbie\nSeptember 27\, 2024: Blue Beetle\nOctober 19\, 2024: Haunted Mansion + Haunted Trail Walk!\n\nFood Trucks! Games! Music! & More! \n*Bring your own blanket or chair
URL:https://evergreencreativedistrict.org/event/movies-in-the-park/2024-09-27/
LOCATION:Buchanan Park Field\, 32003 Ellingwood Trail\, Evergreen\, CO\, 80439\, United States
CATEGORIES:Cultural Organizations,Lifestyle Arts,Performing Arts,Volunteers for the Arts
ATTACH;FMTTYPE=image/jpeg:https://evergreencreativedistrict.org/wp-content/uploads/movies-in-the-park.jpg
GEO:39.6846585;-105.3631058
X-APPLE-STRUCTURED-LOCATION;VALUE=URI;X-ADDRESS=Buchanan Park Field 32003 Ellingwood Trail Evergreen CO 80439 United States;X-APPLE-RADIUS=500;X-TITLE=32003 Ellingwood Trail:geo:-105.3631058,39.6846585
END:VEVENT
END:VCALENDAR