BEGIN:VCALENDAR
VERSION:2.0
PRODID:-//Evergreen Creative District - ECPv6.15.20//NONSGML v1.0//EN
CALSCALE:GREGORIAN
METHOD:PUBLISH
X-WR-CALNAME:Evergreen Creative District
X-ORIGINAL-URL:https://evergreencreativedistrict.org
X-WR-CALDESC:Events for Evergreen Creative District
REFRESH-INTERVAL;VALUE=DURATION:PT1H
X-Robots-Tag:noindex
X-PUBLISHED-TTL:PT1H
BEGIN:VTIMEZONE
TZID:America/Denver
BEGIN:DAYLIGHT
TZOFFSETFROM:-0700
TZOFFSETTO:-0600
TZNAME:MDT
DTSTART:20250309T090000
END:DAYLIGHT
BEGIN:STANDARD
TZOFFSETFROM:-0600
TZOFFSETTO:-0700
TZNAME:MST
DTSTART:20251102T080000
END:STANDARD
BEGIN:DAYLIGHT
TZOFFSETFROM:-0700
TZOFFSETTO:-0600
TZNAME:MDT
DTSTART:20260308T090000
END:DAYLIGHT
BEGIN:STANDARD
TZOFFSETFROM:-0600
TZOFFSETTO:-0700
TZNAME:MST
DTSTART:20261101T080000
END:STANDARD
BEGIN:DAYLIGHT
TZOFFSETFROM:-0700
TZOFFSETTO:-0600
TZNAME:MDT
DTSTART:20270314T090000
END:DAYLIGHT
BEGIN:STANDARD
TZOFFSETFROM:-0600
TZOFFSETTO:-0700
TZNAME:MST
DTSTART:20271107T080000
END:STANDARD
END:VTIMEZONE
BEGIN:VEVENT
DTSTART;TZID=America/Denver:20260426T150000
DTEND;TZID=America/Denver:20260426T170000
DTSTAMP:20260419T120834
CREATED:20260317T210853Z
LAST-MODIFIED:20260317T210853Z
UID:10001831-1777215600-1777222800@evergreencreativedistrict.org
SUMMARY:Evergreen Chamber Orchestra - Series Finale Recital
DESCRIPTION:Evergreen Chamber Orchestra \nSeries Finale Recitals \nSunday\, April 26\, 2026\n3:00 pm \nSt. Laurence Episcopal Church\n26812 Barkley Rd\, Conifer\, CO 80433 \nECO’s Chamber Recital Series offers a wonderfully intimate way to experience captivating music. These performances feature ECO musicians and their friends performing delightful repertoire for small chamber groups. Stay after the recital for a delicious reception provided by the members of St. Laurence! \n \nGet Tickets
URL:https://evergreencreativedistrict.org/event/evergreen-chamber-orchestra-series-finale-recital-3/
LOCATION:St Laurence Episcopal Church\, 26812 Barkley Road\, Conifer\, CO\, 80433\, United States
CATEGORIES:Music Arts
ATTACH;FMTTYPE=image/png:https://evergreencreativedistrict.org/wp-content/uploads/2526-CR3-Event-Image-small.png
ORGANIZER;CN="Evergreen Chamber Orchestra":MAILTO:board@evergreenchamberorch.org
END:VEVENT
END:VCALENDAR